BEGIN:VCALENDAR
VERSION:2.0
PRODID:-//Odessa Christian School - ECPv6.13.0//NONSGML v1.0//EN
CALSCALE:GREGORIAN
METHOD:PUBLISH
X-WR-CALNAME:Odessa Christian School
X-ORIGINAL-URL:https://odessa-christian.org
X-WR-CALDESC:Events for Odessa Christian School
REFRESH-INTERVAL;VALUE=DURATION:PT1H
X-Robots-Tag:noindex
X-PUBLISHED-TTL:PT1H
BEGIN:VTIMEZONE
TZID:America/Chicago
BEGIN:DAYLIGHT
TZOFFSETFROM:-0600
TZOFFSETTO:-0500
TZNAME:CDT
DTSTART:20260308T080000
END:DAYLIGHT
BEGIN:STANDARD
TZOFFSETFROM:-0500
TZOFFSETTO:-0600
TZNAME:CST
DTSTART:20261101T070000
END:STANDARD
END:VTIMEZONE
BEGIN:VEVENT
DTSTART;TZID=America/Chicago:20260323T080000
DTEND;TZID=America/Chicago:20260327T170000
DTSTAMP:20260422T122826
CREATED:20260224T165058Z
LAST-MODIFIED:20260224T165058Z
UID:10000136-1774252800-1774630800@odessa-christian.org
SUMMARY:Scholastic Book Fair
DESCRIPTION:
URL:https://odessa-christian.org/event/scholastic-book-fair/
END:VEVENT
BEGIN:VEVENT
DTSTART;TZID=America/Chicago:20260326T080000
DTEND;TZID=America/Chicago:20260326T090000
DTSTAMP:20260422T122826
CREATED:20260205T213427Z
LAST-MODIFIED:20260224T162403Z
UID:10000126-1774512000-1774515600@odessa-christian.org
SUMMARY:Chapel: Comandante
DESCRIPTION:
URL:https://odessa-christian.org/event/chapel-comandante/
END:VEVENT
BEGIN:VEVENT
DTSTART;TZID=America/Chicago:20260326T080000
DTEND;TZID=America/Chicago:20260326T170000
DTSTAMP:20260422T122826
CREATED:20260224T164817Z
LAST-MODIFIED:20260224T164817Z
UID:10000135-1774512000-1774544400@odessa-christian.org
SUMMARY:Lunch With Grands
DESCRIPTION:
URL:https://odessa-christian.org/event/lunch-with-grands-2/
END:VEVENT
END:VCALENDAR