BEGIN:VCALENDAR
VERSION:2.0
PRODID:-//Odessa Christian School - ECPv6.13.0//NONSGML v1.0//EN
CALSCALE:GREGORIAN
METHOD:PUBLISH
X-WR-CALNAME:Odessa Christian School
X-ORIGINAL-URL:https://odessa-christian.org
X-WR-CALDESC:Events for Odessa Christian School
REFRESH-INTERVAL;VALUE=DURATION:PT1H
X-Robots-Tag:noindex
X-PUBLISHED-TTL:PT1H
BEGIN:VTIMEZONE
TZID:America/Chicago
BEGIN:DAYLIGHT
TZOFFSETFROM:-0600
TZOFFSETTO:-0500
TZNAME:CDT
DTSTART:20260308T080000
END:DAYLIGHT
BEGIN:STANDARD
TZOFFSETFROM:-0500
TZOFFSETTO:-0600
TZNAME:CST
DTSTART:20261101T070000
END:STANDARD
END:VTIMEZONE
BEGIN:VEVENT
DTSTART;TZID=America/Chicago:20260421T080000
DTEND;TZID=America/Chicago:20260421T090000
DTSTAMP:20260419T224354
CREATED:20260205T213313Z
LAST-MODIFIED:20260417T194148Z
UID:10000124-1776758400-1776762000@odessa-christian.org
SUMMARY:Chapel: Lewis
DESCRIPTION:
URL:https://odessa-christian.org/event/chapel-lewis/2026-04-21/
END:VEVENT
BEGIN:VEVENT
DTSTART;TZID=America/Chicago:20260422T080000
DTEND;TZID=America/Chicago:20260422T090000
DTSTAMP:20260419T224354
CREATED:20260205T212852Z
LAST-MODIFIED:20260417T191003Z
UID:10000118-1776844800-1776848400@odessa-christian.org
SUMMARY:Chapel: Knoll
DESCRIPTION:
URL:https://odessa-christian.org/event/chapel-knoll/
END:VEVENT
BEGIN:VEVENT
DTSTART;TZID=America/Chicago:20260422T080000
DTEND;TZID=America/Chicago:20260422T170000
DTSTAMP:20260419T224354
CREATED:20260128T155144Z
LAST-MODIFIED:20260128T155459Z
UID:10000102-1776844800-1776877200@odessa-christian.org
SUMMARY:Snack Bar Day
DESCRIPTION:
URL:https://odessa-christian.org/event/snack-bar-day/2026-04-22/
END:VEVENT
BEGIN:VEVENT
DTSTART;TZID=America/Chicago:20260423T080000
DTEND;TZID=America/Chicago:20260423T090000
DTSTAMP:20260419T224354
CREATED:20260205T213123Z
LAST-MODIFIED:20260417T191204Z
UID:10000121-1776931200-1776934800@odessa-christian.org
SUMMARY:Chapel: Robles
DESCRIPTION:
URL:https://odessa-christian.org/event/chapel-robles/
END:VEVENT
BEGIN:VEVENT
DTSTART;TZID=America/Chicago:20260423T080000
DTEND;TZID=America/Chicago:20260423T170000
DTSTAMP:20260419T224354
CREATED:20260417T191445Z
LAST-MODIFIED:20260417T191445Z
UID:10000137-1776931200-1776963600@odessa-christian.org
SUMMARY:Wax Museum
DESCRIPTION:
URL:https://odessa-christian.org/event/wax-museum/
END:VEVENT
BEGIN:VEVENT
DTSTART;TZID=America/Chicago:20260424T080000
DTEND;TZID=America/Chicago:20260424T170000
DTSTAMP:20260419T224354
CREATED:20260417T191559Z
LAST-MODIFIED:20260417T191559Z
UID:10000138-1777017600-1777050000@odessa-christian.org
SUMMARY:Free Dress
DESCRIPTION:
URL:https://odessa-christian.org/event/free-dress/
END:VEVENT
BEGIN:VEVENT
DTSTART;TZID=America/Chicago:20260428T080000
DTEND;TZID=America/Chicago:20260429T170000
DTSTAMP:20260419T224354
CREATED:20260417T191726Z
LAST-MODIFIED:20260417T192335Z
UID:10000139-1777363200-1777482000@odessa-christian.org
SUMMARY:NWEA Testing
DESCRIPTION:
URL:https://odessa-christian.org/event/nwea-testing/2026-04-28/
END:VEVENT
BEGIN:VEVENT
DTSTART;TZID=America/Chicago:20260429T080000
DTEND;TZID=America/Chicago:20260429T170000
DTSTAMP:20260419T224354
CREATED:20260128T155144Z
LAST-MODIFIED:20260128T155459Z
UID:10000103-1777449600-1777482000@odessa-christian.org
SUMMARY:Snack Bar Day
DESCRIPTION:
URL:https://odessa-christian.org/event/snack-bar-day/2026-04-29/
END:VEVENT
BEGIN:VEVENT
DTSTART;TZID=America/Chicago:20260430T080000
DTEND;TZID=America/Chicago:20260430T170000
DTSTAMP:20260419T224354
CREATED:20260417T191955Z
LAST-MODIFIED:20260417T191955Z
UID:10000140-1777536000-1777568400@odessa-christian.org
SUMMARY:The Last Day of Reenrollment at $230
DESCRIPTION:
URL:https://odessa-christian.org/event/the-last-day-of-reenrollment-at-230/
END:VEVENT
END:VCALENDAR